BEGIN:VCALENDAR
VERSION:2.0
PRODID:-//Rising Star Gymnastics - ECPv6.15.20//NONSGML v1.0//EN
CALSCALE:GREGORIAN
METHOD:PUBLISH
X-WR-CALNAME:Rising Star Gymnastics
X-ORIGINAL-URL:https://risingstarmonterey.com
X-WR-CALDESC:Events for Rising Star Gymnastics
REFRESH-INTERVAL;VALUE=DURATION:PT1H
X-Robots-Tag:noindex
X-PUBLISHED-TTL:PT1H
BEGIN:VTIMEZONE
TZID:UTC
BEGIN:STANDARD
TZOFFSETFROM:+0000
TZOFFSETTO:+0000
TZNAME:UTC
DTSTART:20290101T000000
END:STANDARD
END:VTIMEZONE
BEGIN:VEVENT
DTSTART;TZID=UTC:20300711T114500
DTEND;TZID=UTC:20300711T124500
DTSTAMP:20260420T222934
CREATED:20240614T201633Z
LAST-MODIFIED:20250801T230332Z
UID:10006410-1910000700-1910004300@risingstarmonterey.com
SUMMARY:THURSDAYS DAYTIME PLAYTIME
DESCRIPTION:
URL:https://risingstarmonterey.com/event/daytime-playtime-2/2030-07-11/
LOCATION:Rising Star Gymnastics\, 2024 Del Monte Avenue\, Monterey\, 93940\, United States
CATEGORIES:Events
ATTACH;FMTTYPE=image/jpeg:https://risingstarmonterey.com/wp-content/uploads/2022/03/rising-star-gymnastics-toddler-play-time-03.jpg
END:VEVENT
BEGIN:VEVENT
DTSTART;TZID=UTC:20300718T114500
DTEND;TZID=UTC:20300718T124500
DTSTAMP:20260420T222934
CREATED:20240614T201633Z
LAST-MODIFIED:20250801T230332Z
UID:10006411-1910605500-1910609100@risingstarmonterey.com
SUMMARY:THURSDAYS DAYTIME PLAYTIME
DESCRIPTION:
URL:https://risingstarmonterey.com/event/daytime-playtime-2/2030-07-18/
LOCATION:Rising Star Gymnastics\, 2024 Del Monte Avenue\, Monterey\, 93940\, United States
CATEGORIES:Events
ATTACH;FMTTYPE=image/jpeg:https://risingstarmonterey.com/wp-content/uploads/2022/03/rising-star-gymnastics-toddler-play-time-03.jpg
END:VEVENT
BEGIN:VEVENT
DTSTART;TZID=UTC:20300725T114500
DTEND;TZID=UTC:20300725T124500
DTSTAMP:20260420T222934
CREATED:20240614T201633Z
LAST-MODIFIED:20250801T230332Z
UID:10006412-1911210300-1911213900@risingstarmonterey.com
SUMMARY:THURSDAYS DAYTIME PLAYTIME
DESCRIPTION:
URL:https://risingstarmonterey.com/event/daytime-playtime-2/2030-07-25/
LOCATION:Rising Star Gymnastics\, 2024 Del Monte Avenue\, Monterey\, 93940\, United States
CATEGORIES:Events
ATTACH;FMTTYPE=image/jpeg:https://risingstarmonterey.com/wp-content/uploads/2022/03/rising-star-gymnastics-toddler-play-time-03.jpg
END:VEVENT
BEGIN:VEVENT
DTSTART;TZID=UTC:20300801T114500
DTEND;TZID=UTC:20300801T124500
DTSTAMP:20260420T222934
CREATED:20240614T201633Z
LAST-MODIFIED:20250801T230332Z
UID:10006413-1911815100-1911818700@risingstarmonterey.com
SUMMARY:THURSDAYS DAYTIME PLAYTIME
DESCRIPTION:
URL:https://risingstarmonterey.com/event/daytime-playtime-2/2030-08-01/
LOCATION:Rising Star Gymnastics\, 2024 Del Monte Avenue\, Monterey\, 93940\, United States
CATEGORIES:Events
ATTACH;FMTTYPE=image/jpeg:https://risingstarmonterey.com/wp-content/uploads/2022/03/rising-star-gymnastics-toddler-play-time-03.jpg
END:VEVENT
END:VCALENDAR